BEGIN:VCALENDAR
VERSION:2.0
PRODID:-//Durham Community Health Centre - ECPv6.15.20//NONSGML v1.0//EN
CALSCALE:GREGORIAN
METHOD:PUBLISH
X-ORIGINAL-URL:https://www.durhamchc.ca
X-WR-CALDESC:Events for Durham Community Health Centre
REFRESH-INTERVAL;VALUE=DURATION:PT1H
X-Robots-Tag:noindex
X-PUBLISHED-TTL:PT1H
BEGIN:VTIMEZONE
TZID:America/Toronto
BEGIN:DAYLIGHT
TZOFFSETFROM:-0500
TZOFFSETTO:-0400
TZNAME:EDT
DTSTART:20220313T070000
END:DAYLIGHT
BEGIN:STANDARD
TZOFFSETFROM:-0400
TZOFFSETTO:-0500
TZNAME:EST
DTSTART:20221106T060000
END:STANDARD
BEGIN:DAYLIGHT
TZOFFSETFROM:-0500
TZOFFSETTO:-0400
TZNAME:EDT
DTSTART:20230312T070000
END:DAYLIGHT
BEGIN:STANDARD
TZOFFSETFROM:-0400
TZOFFSETTO:-0500
TZNAME:EST
DTSTART:20231105T060000
END:STANDARD
BEGIN:DAYLIGHT
TZOFFSETFROM:-0500
TZOFFSETTO:-0400
TZNAME:EDT
DTSTART:20240310T070000
END:DAYLIGHT
BEGIN:STANDARD
TZOFFSETFROM:-0400
TZOFFSETTO:-0500
TZNAME:EST
DTSTART:20241103T060000
END:STANDARD
END:VTIMEZONE
BEGIN:VEVENT
DTSTART;TZID=America/Toronto:20231206T170000
DTEND;TZID=America/Toronto:20231206T193000
DTSTAMP:20260422T061959
CREATED:20240110T001559Z
LAST-MODIFIED:20240411T150735Z
UID:10002420-1701882000-1701891000@www.durhamchc.ca
SUMMARY:Indigenous Family Night
DESCRIPTION:First Nation\, Inuit\, Métis Peoples\, and their family are welcome to join us as we share food\, Indigenous knowledge\, culture\, and experiences. \nPrograms for all ages\, 0-6\, 7-12\, 13-17\, and 18+. \nStrengthening community though building relationships and shared knowledge. \n     \nFor more info\, contact Angela (905)723-0036 X1222 aduckworth@durhamchc.ca
URL:https://www.durhamchc.ca/event/indigenous-family-night/2023-12-06/
LOCATION:Oshawa Location\, 115 Grassmere Avenue\, Oshawa\, ON\, L1H 3X7\, Canada
ATTACH;FMTTYPE=image/png:https://www.durhamchc.ca/wp-content/uploads/2023/10/Indigenous-Family-Night.png
END:VEVENT
BEGIN:VEVENT
DTSTART;TZID=America/Toronto:20231213T170000
DTEND;TZID=America/Toronto:20231213T193000
DTSTAMP:20260422T061959
CREATED:20240110T001559Z
LAST-MODIFIED:20240411T150735Z
UID:10002421-1702486800-1702495800@www.durhamchc.ca
SUMMARY:Indigenous Family Night
DESCRIPTION:First Nation\, Inuit\, Métis Peoples\, and their family are welcome to join us as we share food\, Indigenous knowledge\, culture\, and experiences. \nPrograms for all ages\, 0-6\, 7-12\, 13-17\, and 18+. \nStrengthening community though building relationships and shared knowledge. \n     \nFor more info\, contact Angela (905)723-0036 X1222 aduckworth@durhamchc.ca
URL:https://www.durhamchc.ca/event/indigenous-family-night/2023-12-13/
LOCATION:Oshawa Location\, 115 Grassmere Avenue\, Oshawa\, ON\, L1H 3X7\, Canada
ATTACH;FMTTYPE=image/png:https://www.durhamchc.ca/wp-content/uploads/2023/10/Indigenous-Family-Night.png
END:VEVENT
BEGIN:VEVENT
DTSTART;TZID=America/Toronto:20231220T170000
DTEND;TZID=America/Toronto:20231220T193000
DTSTAMP:20260422T061959
CREATED:20240110T001559Z
LAST-MODIFIED:20240411T150735Z
UID:10002422-1703091600-1703100600@www.durhamchc.ca
SUMMARY:Indigenous Family Night
DESCRIPTION:First Nation\, Inuit\, Métis Peoples\, and their family are welcome to join us as we share food\, Indigenous knowledge\, culture\, and experiences. \nPrograms for all ages\, 0-6\, 7-12\, 13-17\, and 18+. \nStrengthening community though building relationships and shared knowledge. \n     \nFor more info\, contact Angela (905)723-0036 X1222 aduckworth@durhamchc.ca
URL:https://www.durhamchc.ca/event/indigenous-family-night/2023-12-20/
LOCATION:Oshawa Location\, 115 Grassmere Avenue\, Oshawa\, ON\, L1H 3X7\, Canada
ATTACH;FMTTYPE=image/png:https://www.durhamchc.ca/wp-content/uploads/2023/10/Indigenous-Family-Night.png
END:VEVENT
BEGIN:VEVENT
DTSTART;TZID=America/Toronto:20231227T170000
DTEND;TZID=America/Toronto:20231227T193000
DTSTAMP:20260422T061959
CREATED:20240110T001559Z
LAST-MODIFIED:20240411T150735Z
UID:10002423-1703696400-1703705400@www.durhamchc.ca
SUMMARY:Indigenous Family Night
DESCRIPTION:First Nation\, Inuit\, Métis Peoples\, and their family are welcome to join us as we share food\, Indigenous knowledge\, culture\, and experiences. \nPrograms for all ages\, 0-6\, 7-12\, 13-17\, and 18+. \nStrengthening community though building relationships and shared knowledge. \n     \nFor more info\, contact Angela (905)723-0036 X1222 aduckworth@durhamchc.ca
URL:https://www.durhamchc.ca/event/indigenous-family-night/2023-12-27/
LOCATION:Oshawa Location\, 115 Grassmere Avenue\, Oshawa\, ON\, L1H 3X7\, Canada
ATTACH;FMTTYPE=image/png:https://www.durhamchc.ca/wp-content/uploads/2023/10/Indigenous-Family-Night.png
END:VEVENT
END:VCALENDAR